BEGIN:VCALENDAR
PRODID:-//eluceo/ical//2.0/EN
VERSION:2.0
CALSCALE:GREGORIAN
BEGIN:VEVENT
UID:25f6357d54b170e8194095d39320dda5
DTSTAMP:20260422T130717Z
SUMMARY:Exlibris - konst i miniatyrformat
DESCRIPTION:Talare: Olle Reichenberg\, ordf i Svenska Exlibrisföreningen
URL:https://taby-jarlabanke.rotary2355.se/sv/agenda/show/209955
DTSTART;TZID=Europe/Zurich:20241113T071500
DTEND;TZID=Europe/Zurich:20241113T083000
LOCATION:Scandic Täby (och via Zoom)\, Näsbyvägen 4\, 183 30 Täby\, Sve
 rige
CATEGORIES:Rotary
END:VEVENT
BEGIN:VTIMEZONE
TZID:Europe/Zurich
BEGIN:STANDARD
DTSTART:20241113T071500
TZNAME:CET
TZOFFSETTO:+0100
TZOFFSETFROM:+0100
END:STANDARD
END:VTIMEZONE
END:VCALENDAR
