BEGIN:VCALENDAR
PRODID:-//eluceo/ical//2.0/EN
VERSION:2.0
CALSCALE:GREGORIAN
BEGIN:VEVENT
UID:f43e56afa3929e026669e3463e4f03eb
DTSTAMP:20260422T112145Z
SUMMARY:Grindtorpskyrkans missionsprojekt i Kenya
DESCRIPTION:Talare: Dan Gustafsson
URL:https://taby-jarlabanke.rotary2355.se/sv/agenda/show/209772
DTSTART;TZID=Europe/Zurich:20241106T071500
DTEND;TZID=Europe/Zurich:20241106T083000
LOCATION:Scandic Täby (och via Zoom)\, Näsbyvägen 4\, 183 30 Täby\, Sve
 rige
CATEGORIES:Rotary
END:VEVENT
BEGIN:VTIMEZONE
TZID:Europe/Zurich
BEGIN:STANDARD
DTSTART:20241106T071500
TZNAME:CET
TZOFFSETTO:+0100
TZOFFSETFROM:+0100
END:STANDARD
END:VTIMEZONE
END:VCALENDAR
