BEGIN:VCALENDAR
PRODID:-//eluceo/ical//2.0/EN
VERSION:2.0
CALSCALE:GREGORIAN
BEGIN:VEVENT
UID:2588c18b363877d0c41bc0ce151dfab4
DTSTAMP:20260420T212121Z
SUMMARY:Innovation Culture: Marching Band or Jazz Combo?
DESCRIPTION:Talare: Rich Nadworny\, CEO Humankind
URL:https://taby-jarlabanke.rotary2355.se/sv/agenda/show/209771
DTSTART;TZID=Europe/Zurich:20241030T071500
DTEND;TZID=Europe/Zurich:20241030T083000
LOCATION:Scandic Täby (och via Zoom)\, Näsbyvägen 4\, 183 30 Täby\, Sve
 rige
CATEGORIES:Rotary
END:VEVENT
BEGIN:VTIMEZONE
TZID:Europe/Zurich
BEGIN:STANDARD
DTSTART:20241030T071500
TZNAME:CET
TZOFFSETTO:+0100
TZOFFSETFROM:+0100
END:STANDARD
END:VTIMEZONE
END:VCALENDAR
