BEGIN:VCALENDAR
PRODID:-//eluceo/ical//2.0/EN
VERSION:2.0
CALSCALE:GREGORIAN
BEGIN:VEVENT
UID:7263f6be10f424c20e1c4c102b17d903
DTSTAMP:20260424T085337Z
SUMMARY:Sverige och cybersäkerhet
DESCRIPTION:Talare: Patrik Fältström\, datortekniker och internet-pionjä
 r
URL:https://taby-jarlabanke.rotary2355.se/sv/agenda/show/209314
DTSTART;TZID=Europe/Zurich:20241016T071500
DTEND;TZID=Europe/Zurich:20241016T083000
LOCATION:Scandic Täby (och via Zoom)\, Näsbyvägen 4\, 183 30 Täby\, Sve
 rige
CATEGORIES:Rotary
END:VEVENT
BEGIN:VTIMEZONE
TZID:Europe/Zurich
BEGIN:DAYLIGHT
DTSTART:20241016T071500
TZNAME:CEST
TZOFFSETTO:+0200
TZOFFSETFROM:+0200
END:DAYLIGHT
END:VTIMEZONE
END:VCALENDAR
