BEGIN:VCALENDAR
PRODID:-//eluceo/ical//2.0/EN
VERSION:2.0
CALSCALE:GREGORIAN
BEGIN:VEVENT
UID:50bc297d8107d0e3a49dffd9e03d719a
DTSTAMP:20260423T145716Z
SUMMARY:Den systemhotande kriminaliteten
DESCRIPTION:Talare: Åsa Eriksson och Jan Persson
URL:https://taby-jarlabanke.rotary2355.se/sv/agenda/show/206267
DTSTART;TZID=Europe/Zurich:20240320T071500
DTEND;TZID=Europe/Zurich:20240320T083000
LOCATION:Scandic Täby (och via Zoom)\, Näsbyvägen 4\, 183 30 Täby\, Sve
 rige
CATEGORIES:Rotary
END:VEVENT
BEGIN:VTIMEZONE
TZID:Europe/Zurich
BEGIN:STANDARD
DTSTART:20240320T071500
TZNAME:CET
TZOFFSETTO:+0100
TZOFFSETFROM:+0100
END:STANDARD
END:VTIMEZONE
END:VCALENDAR
