BEGIN:VCALENDAR
PRODID:-//eluceo/ical//2.0/EN
VERSION:2.0
CALSCALE:GREGORIAN
BEGIN:VEVENT
UID:64064712827cf7c2a0339fc701476987
DTSTAMP:20260423T130419Z
SUMMARY:Hur man kan lyckas med släktforskning
DESCRIPTION:Talare: Ingvar Börtemark
URL:https://taby-jarlabanke.rotary2355.se/sv/agenda/show/205902
DTSTART;TZID=Europe/Zurich:20240313T071500
DTEND;TZID=Europe/Zurich:20240313T083000
LOCATION:Scandic Täby (och via Zoom)\, Näsbyvägen 4\, 183 30 Täby\, Sve
 rige
CATEGORIES:Rotary
END:VEVENT
BEGIN:VTIMEZONE
TZID:Europe/Zurich
BEGIN:STANDARD
DTSTART:20240313T071500
TZNAME:CET
TZOFFSETTO:+0100
TZOFFSETFROM:+0100
END:STANDARD
END:VTIMEZONE
END:VCALENDAR
