BEGIN:VCALENDAR
PRODID:-//eluceo/ical//2.0/EN
VERSION:2.0
CALSCALE:GREGORIAN
BEGIN:VEVENT
UID:137d62ceac3188b212ace5face3a5ea4
DTSTAMP:20260423T111715Z
SUMMARY:Villa Bergli - Studiebseök
DESCRIPTION:Talare: Johan och Linnea Eriksson
URL:https://malung-salen.rotary2335.se/sv/agenda/show/202953
DTSTART;TZID=Europe/Zurich:20231115T180000
DTEND;TZID=Europe/Zurich:20231115T200000
LOCATION:Villa Bergli  Liavägen 1  Malung
CATEGORIES:Rotary
END:VEVENT
BEGIN:VTIMEZONE
TZID:Europe/Zurich
BEGIN:STANDARD
DTSTART:20231115T180000
TZNAME:CET
TZOFFSETTO:+0100
TZOFFSETFROM:+0100
END:STANDARD
END:VTIMEZONE
END:VCALENDAR
