BEGIN:VCALENDAR
PRODID:-//eluceo/ical//2.0/EN
VERSION:2.0
CALSCALE:GREGORIAN
BEGIN:VEVENT
UID:02f81eaad4bcf29dad6369f478a2165f
DTSTAMP:20260423T112042Z
SUMMARY:Veckomöte 17. Lucia
DESCRIPTION:
URL:https://lerum.2360.rotarysverige.org/sv/agenda/show/201441
DTSTART;TZID=Europe/Zurich:20231212T170000
DTEND;TZID=Europe/Zurich:20231212T180000
LOCATION:Odd Fellowgården\, Hedeforsvägen 58\, 44338 Lerum\, Sverige
CATEGORIES:Rotary
END:VEVENT
BEGIN:VTIMEZONE
TZID:Europe/Zurich
BEGIN:STANDARD
DTSTART:20231212T170000
TZNAME:CET
TZOFFSETTO:+0100
TZOFFSETFROM:+0100
END:STANDARD
END:VTIMEZONE
END:VCALENDAR
