BEGIN:VCALENDAR
PRODID:-//eluceo/ical//2.0/EN
VERSION:2.0
CALSCALE:GREGORIAN
BEGIN:VEVENT
UID:83cd6f6d2fa1eed7ee12e1dd9ec94ea5
DTSTAMP:20260425T110827Z
SUMMARY:Veckomöte 16. Årsmöte
DESCRIPTION:Talare: Presidenten
URL:https://lerum.2360.rotarysverige.org/sv/agenda/show/201440
DTSTART;TZID=Europe/Zurich:20231205T170000
DTEND;TZID=Europe/Zurich:20231205T170000
LOCATION:Odd Fellowgården\, Hedeforsvägen 58\, 44338 Lerum\, Sverige
CATEGORIES:Rotary
END:VEVENT
BEGIN:VTIMEZONE
TZID:Europe/Zurich
BEGIN:STANDARD
DTSTART:20231205T170000
TZNAME:CET
TZOFFSETTO:+0100
TZOFFSETFROM:+0100
END:STANDARD
END:VTIMEZONE
END:VCALENDAR
