BEGIN:VCALENDAR
PRODID:-//eluceo/ical//2.0/EN
VERSION:2.0
CALSCALE:GREGORIAN
BEGIN:VEVENT
UID:ecc860fe5e979017d4a72585c94b6483
DTSTAMP:20260425T143757Z
SUMMARY:Veckomöte 14. Krasch i ishavet.
DESCRIPTION:Talare:     Bo Genvad
URL:https://lerum.2360.rotarysverige.org/sv/agenda/show/201438
DTSTART;TZID=Europe/Zurich:20231121T170000
DTEND;TZID=Europe/Zurich:20231121T180000
LOCATION:Odd Fellowgården\, Hedeforsvägen 58\, 44338 Lerum\, Sverige
CATEGORIES:Rotary
END:VEVENT
BEGIN:VTIMEZONE
TZID:Europe/Zurich
BEGIN:STANDARD
DTSTART:20231121T170000
TZNAME:CET
TZOFFSETTO:+0100
TZOFFSETFROM:+0100
END:STANDARD
END:VTIMEZONE
END:VCALENDAR
