BEGIN:VCALENDAR
PRODID:-//eluceo/ical//2.0/EN
VERSION:2.0
CALSCALE:GREGORIAN
BEGIN:VEVENT
UID:1ab38befb2e28ee9b492b378e5557591
DTSTAMP:20260425T162816Z
SUMMARY:Veckomöte 13. Kort-Egoföredrag
DESCRIPTION:Talare: Åke Lagerqvist och Lars Feuk
URL:https://lerum.2360.rotarysverige.org/sv/agenda/show/201437
DTSTART;TZID=Europe/Zurich:20231114T170000
DTEND;TZID=Europe/Zurich:20231114T180000
LOCATION:Odd Fellowgården\, Hedeforsvägen 58\, 44338 Lerum\, Sverige
CATEGORIES:Rotary
END:VEVENT
BEGIN:VTIMEZONE
TZID:Europe/Zurich
BEGIN:STANDARD
DTSTART:20231114T170000
TZNAME:CET
TZOFFSETTO:+0100
TZOFFSETFROM:+0100
END:STANDARD
END:VTIMEZONE
END:VCALENDAR
