BEGIN:VCALENDAR
PRODID:-//eluceo/ical//2.0/EN
VERSION:2.0
CALSCALE:GREGORIAN
BEGIN:VEVENT
UID:49cfdf8ec008daa3d2e34c7d06f2352e
DTSTAMP:20260425T181807Z
SUMMARY:Veckomöte 12. Polioarbetet
DESCRIPTION:Talare: Per Haglind    
URL:https://lerum.2360.rotarysverige.org/sv/agenda/show/201436
DTSTART;TZID=Europe/Zurich:20231107T170000
DTEND;TZID=Europe/Zurich:20231107T180000
LOCATION:Odd Fellowgården\, Hedeforsvägen 58\, 44338 Lerum\, Sverige
CATEGORIES:Rotary
END:VEVENT
BEGIN:VTIMEZONE
TZID:Europe/Zurich
BEGIN:STANDARD
DTSTART:20231107T170000
TZNAME:CET
TZOFFSETTO:+0100
TZOFFSETFROM:+0100
END:STANDARD
END:VTIMEZONE
END:VCALENDAR
