BEGIN:VCALENDAR
PRODID:-//eluceo/ical//2.0/EN
VERSION:2.0
CALSCALE:GREGORIAN
BEGIN:VEVENT
UID:dc60dd4136198246dd128e0182b05631
DTSTAMP:20260425T110736Z
SUMMARY:Att leva i en småstad i USA
DESCRIPTION:Talare: Johan Engström
URL:https://upsala-aros.rotary2355.se/sv/agenda/show/200780
DTSTART;TZID=Europe/Zurich:20230526T073000
DTEND;TZID=Europe/Zurich:20230526T083000
LOCATION:Hotell Duvan\, Dragarbrunnsgatan 69\, 753 20 Uppsala\, Sverige
CATEGORIES:Rotary
END:VEVENT
BEGIN:VTIMEZONE
TZID:Europe/Zurich
BEGIN:DAYLIGHT
DTSTART:20230526T073000
TZNAME:CEST
TZOFFSETTO:+0200
TZOFFSETFROM:+0200
END:DAYLIGHT
END:VTIMEZONE
END:VCALENDAR
