BEGIN:VCALENDAR
PRODID:-//eluceo/ical//2.0/EN
VERSION:2.0
CALSCALE:GREGORIAN
BEGIN:VEVENT
UID:071badbf5c7dfa2fa14e05921d0af8e7
DTSTAMP:20260424T115146Z
SUMMARY:Ukraina och Ukrainarna\, Rotary hjälper.
DESCRIPTION:Talare: Anneli Lillmaa berättar.
URL:https://uddevalla-skansen.2360.rotarysverige.org/sv/agenda/show/197970
DTSTART;TZID=Europe/Zurich:20230216T121500
DTEND;TZID=Europe/Zurich:20230216T131500
LOCATION:Riverside\, Riverside\, Museigatan 2\, 451 50 Uddevalla\, Sverige
CATEGORIES:Rotary
END:VEVENT
BEGIN:VTIMEZONE
TZID:Europe/Zurich
BEGIN:STANDARD
DTSTART:20230216T121500
TZNAME:CET
TZOFFSETTO:+0100
TZOFFSETFROM:+0100
END:STANDARD
END:VTIMEZONE
END:VCALENDAR
