BEGIN:VCALENDAR
PRODID:-//eluceo/ical//2.0/EN
VERSION:2.0
CALSCALE:GREGORIAN
BEGIN:VEVENT
UID:3659128a1b00c20b1b0fa7b06662c4dc
DTSTAMP:20260424T135244Z
SUMMARY:Uddevallas postala historia.
DESCRIPTION:Talare: Leif Rasmussen berättar om den postala historien i Udd
 evalla och dess stämplar.
URL:https://uddevalla-skansen.2360.rotarysverige.org/sv/agenda/show/197700
DTSTART;TZID=Europe/Zurich:20230209T121500
DTEND;TZID=Europe/Zurich:20230209T131500
LOCATION:Riverside\, Riverside\, Museigatan 2\, 451 50 Uddevalla\, Sverige
CATEGORIES:Rotary
END:VEVENT
BEGIN:VTIMEZONE
TZID:Europe/Zurich
BEGIN:STANDARD
DTSTART:20230209T121500
TZNAME:CET
TZOFFSETTO:+0100
TZOFFSETFROM:+0100
END:STANDARD
END:VTIMEZONE
END:VCALENDAR
