BEGIN:VCALENDAR
PRODID:-//eluceo/ical//2.0/EN
VERSION:2.0
CALSCALE:GREGORIAN
BEGIN:VEVENT
UID:ac60cf48ad1eca8829f634b445231bc5
DTSTAMP:20260425T163228Z
SUMMARY:Kriminalvårdschef Maine Erlandsson berättar om "trångboddheten" 
 på Gävleanstalten.
DESCRIPTION:Website: https://gavle-forsbacka.rotary2330.se/sv/\nSpeaker(s):
  Kriminalvårdschef Maine Erlandsson berättar om "trångboddheten" på G
 ävleanstalten.
URL:https://gavle-forsbacka.rotary2335.se/en/agenda/show/206206
DTSTART;TZID=Europe/Zurich:20240228T120000
DTEND;TZID=Europe/Zurich:20240228T130000
LOCATION:Forsbacka Wärdshus\, Värdshusvägen 22\, 81842 Forsbacka\, Sveri
 ge
CATEGORIES:Rotary
END:VEVENT
BEGIN:VTIMEZONE
TZID:Europe/Zurich
BEGIN:STANDARD
DTSTART:20240228T120000
TZNAME:CET
TZOFFSETTO:+0100
TZOFFSETFROM:+0100
END:STANDARD
END:VTIMEZONE
END:VCALENDAR
